BEGIN:VCALENDAR
VERSION:2.0
PRODID:-//Starachowice : Wydział Zamiejscowy PWSH Pomerania
CALSCALE:GREGORIAN
METHOD:PUBLISH
X-WR-CALNAME:Starachowice : Wydział Zamiejscowy PWSH Pomerania
X-ORIGINAL-URL:http://www.pomeraniastarachowice.edu.pl/event/rekrutajca-na-studia-niestacjonarne-2018-2019/
X-WR-CALDESC:Rekrutacja na studia niestacjonarne 2019/2020!
BEGIN:VEVENT
DTSTART:20180620T100000
DTEND:20180930T200000
SUMMARY:Rekrutacja na studia niestacjonarne 2019/2020!
DESCRIPTION:Business it will frequently occur that pleasures have to be repudiated and annoyances accepted. The wise man therefore always holds.
LOCATION:Wydział Zamiejscowy PWSH w Starachowicach
END:VEVENT
END:VCALENDAR
